BEGIN:VCALENDAR
VERSION:2.0
PRODID:-//Schützenverein Bispingen von 1910 e.V. - ECPv6.15.18//NONSGML v1.0//EN
CALSCALE:GREGORIAN
METHOD:PUBLISH
X-WR-CALNAME:Schützenverein Bispingen von 1910 e.V.
X-ORIGINAL-URL:https://www.schuetzenverein-bispingen.de
X-WR-CALDESC:Veranstaltungen für Schützenverein Bispingen von 1910 e.V.
REFRESH-INTERVAL;VALUE=DURATION:PT1H
X-Robots-Tag:noindex
X-PUBLISHED-TTL:PT1H
BEGIN:VTIMEZONE
TZID:Europe/Berlin
BEGIN:DAYLIGHT
TZOFFSETFROM:+0100
TZOFFSETTO:+0200
TZNAME:CEST
DTSTART:20180325T010000
END:DAYLIGHT
BEGIN:STANDARD
TZOFFSETFROM:+0200
TZOFFSETTO:+0100
TZNAME:CET
DTSTART:20181028T010000
END:STANDARD
BEGIN:DAYLIGHT
TZOFFSETFROM:+0100
TZOFFSETTO:+0200
TZNAME:CEST
DTSTART:20190331T010000
END:DAYLIGHT
BEGIN:STANDARD
TZOFFSETFROM:+0200
TZOFFSETTO:+0100
TZNAME:CET
DTSTART:20191027T010000
END:STANDARD
BEGIN:DAYLIGHT
TZOFFSETFROM:+0100
TZOFFSETTO:+0200
TZNAME:CEST
DTSTART:20200329T010000
END:DAYLIGHT
BEGIN:STANDARD
TZOFFSETFROM:+0200
TZOFFSETTO:+0100
TZNAME:CET
DTSTART:20201025T010000
END:STANDARD
BEGIN:DAYLIGHT
TZOFFSETFROM:+0100
TZOFFSETTO:+0200
TZNAME:CEST
DTSTART:20210328T010000
END:DAYLIGHT
BEGIN:STANDARD
TZOFFSETFROM:+0200
TZOFFSETTO:+0100
TZNAME:CET
DTSTART:20211031T010000
END:STANDARD
BEGIN:DAYLIGHT
TZOFFSETFROM:+0100
TZOFFSETTO:+0200
TZNAME:CEST
DTSTART:20220327T010000
END:DAYLIGHT
BEGIN:STANDARD
TZOFFSETFROM:+0200
TZOFFSETTO:+0100
TZNAME:CET
DTSTART:20221030T010000
END:STANDARD
BEGIN:DAYLIGHT
TZOFFSETFROM:+0100
TZOFFSETTO:+0200
TZNAME:CEST
DTSTART:20230326T010000
END:DAYLIGHT
BEGIN:STANDARD
TZOFFSETFROM:+0200
TZOFFSETTO:+0100
TZNAME:CET
DTSTART:20231029T010000
END:STANDARD
END:VTIMEZONE
BEGIN:VEVENT
DTSTART;TZID=Europe/Berlin:20220716T200000
DTEND;TZID=Europe/Berlin:20220717T030000
DTSTAMP:20260420T102204
CREATED:20220617T083317Z
LAST-MODIFIED:20220630T103259Z
UID:10000214-1658001600-1658026800@www.schuetzenverein-bispingen.de
SUMMARY:Große Jubiläumsparty -10 Jahre Zeltdisco zum Schützenfest Bispingen
DESCRIPTION:Endlich hat das lange Warten ein Ende! \n####Datum#### \n16.07.2022  \n#### Doors Open #### \nAb 20:00 Uhr \n#### Einlass #### \nEinlass nur mit Personalausweis! \nEinlass nach JuSchG und unter 18 NUR mit einem Muttizettel \n####Eintritt#### \n9€ \n#### Timetable #### \n20 – 22 Uhr – Discofox mit DJ Kohrt \n22 – 03 Uhr – Zeltdisco mit DJ Kohrt \n#### Einlasssystem #### \nWie auch bei der letzten Zeltdisco bekommt ihr die Bänder an der Kasse zwischen Schießstand und dem Zelt. \n#### Bilder #### \nEs kann unter Umständen vorkommen das Foto oder Video Aufnahmen erstellt werden. Diese Aufnahmen werden gegebenenfalls in der Presse oder dem Internet veröffentlicht. Sollten ihr damit nicht einverstanden sein\, wendet euch direkt an das Organisationsteam
URL:https://www.schuetzenverein-bispingen.de/veranstaltung/zeltdisco-schuetzenfest-bispingen-2022/
LOCATION:Schützenplatz Bispingen\, Bahnhofstraße 901\, Bispingen\, Niedersachsen\, 29646\, Deutschland
CATEGORIES:Öffentlicher Veranstaltungskalender
ATTACH;FMTTYPE=image/jpeg:https://www.schuetzenverein-bispingen.de/wp-content/uploads/2022/06/Schuetzenfest-2022_Zeltdisco_DINA4-Flyer.jpg
ORGANIZER;CN="Sch%C3%BCtzenverein Bispingen von 1910 e.V.":MAILTO:info@schuetzenverein-bispingen.de
END:VEVENT
BEGIN:VEVENT
DTSTART;TZID=Europe/Berlin:20211106T190000
DTEND;TZID=Europe/Berlin:20211106T233000
DTSTAMP:20260420T102204
CREATED:20211015T191555Z
LAST-MODIFIED:20211015T191656Z
UID:10000212-1636225200-1636241400@www.schuetzenverein-bispingen.de
SUMMARY:Königsball 2021
DESCRIPTION:
URL:https://www.schuetzenverein-bispingen.de/veranstaltung/koenigsball-2021/
CATEGORIES:Öffentlicher Veranstaltungskalender
ORGANIZER;CN="Sch%C3%BCtzenverein Bispingen von 1910 e.V.":MAILTO:info@schuetzenverein-bispingen.de
END:VEVENT
BEGIN:VEVENT
DTSTART;TZID=Europe/Berlin:20200718T193000
DTEND;TZID=Europe/Berlin:20200719T000000
DTSTAMP:20260420T102204
CREATED:20200701T134600Z
LAST-MODIFIED:20200716T093455Z
UID:10000211-1595100600-1595116800@www.schuetzenverein-bispingen.de
SUMMARY:Bispinger Auto-Schützenfest 2020
DESCRIPTION:Schützenverein Bispingen von 1910 e.V. feiert Schützenfest 2020 mit Autodisco.\nDer Schützenverein Bispingen von 1910 e.V. hat – wie alle anderen Schützenvereine der Region – das Bispinger Heide-Schützenfest 2020 coronabedingt abgesagt. Nun ist eine Alternative gefunden worden. Auf dem Gelände des Gewerbegebietes Horstfeld in Bispingen findet am Samstag\, den 18.07.2020\, ab 19:30 Uhr bis Mitternacht das „Bispinger Auto-Schützenfest 2020“ statt. Präsident Heiko Bockelmann bedankt sich bei der Gemeinde und dem Landkreis für die Unterstützung\, die das erste Auto-Schützenfest möglich macht. „Insbesondere möchte ich mich auch bei der Jugend unseres Schützenvereins bedanken\, die diese super Idee entwickelt und beharrlich an der Umsetzung gearbeitet hat“\, so der Präsident. \nAuf dem Gelände ist Platz für 350 Fahrzeuge. Der Besuch ist ausschließlich im PKW gestattet. Alle wichtigen Hinweise und ein ausführliches Hygiene- und Sicherheitskonzept sind unten auf dieser Internetseite zu finden. Tickets können nur im Vorverkauf online erworben werden. Es gibt keine Abendkasse. \nDas Bispinger Auto-Schützenfest ist in diesem besonderen Jahr wohl eines der größten Schützenfeste in Niedersachsen. Alle Besucher\, die in Schützenuniform und/oder mit Schützenfahne geschmücktem Auto erscheinen bekommen zusätzlich ein kleines Präsent vom Sponsor Berentzen. Die Veranstaltung beginnt mit der offiziellen Eröffnung des „Bispinger Autos-Schützenfest 2020“ durch den Präsidenten Heiko Bockelmann und mit der Begrüßung des amtierenden Königspaars Timo und Britta Drewes. Danach spielt das Team von der Partycrew Bispingen auf der Bühne verschiedene Hits. Empfangen wird das Ganze über eine UKW-Frequenz\, die nur im kleinen Umkreis des Geländes abgreifbar ist. Sollte die Autobatterie anschließend schlappmachen\, gibt es Starthilfe. Eigene Getränke und Snacks dürfen mitgebracht werden. Allerdings würden sich die Verantwortlichen vom Schützenverein Bispingen von 1910 e.V. sehr freuen\, wenn die Schausteller und Partner vor Ort durch Essens- und Getränkebestellungen während der Veranstaltung unterstützt werden. \nEinlass: ab 18:00 Uhr \nBeginn: 19:30 Uhr \nEnde: 24:00 Uhr \nUnsere Sicherheitsbestimmungen und Hygienevorschriften\nDas Bispinger Auto-Schützenfest 2020 findet ausschließlich nur unter strenger Einhaltung der geltenden Sicherheitsvorkehrungen und Verhaltensregeln\, zur Eindämmung der Pandemie\, statt. \nWir orientieren uns als Veranstalter klar an den geltenden Auflagen. Bei Zuwiderhandlung durch unsere Besucher müssen wir leider entsprechende Verweise durchsetzen. \n												Maßnahmen zur Sicherheit \n\nBesuch ausschließlich im Auto: Es dürfen sich bis zu 5 Personen in einem Auto befinden.\nEs ist nicht zulässig das Veranstaltungsgelände mit Zweirädern oder anderen Fahrzeugen\, die nicht mit Scheiben verschlossen werden können\, zu besuchen.\nWir möchten aber darauf hinweisen\, dass es unter Umständen\, je nach Modell und Körpergröße\, zu Sichteinschränkungen auf der Hinterbank des Autos kommen kann.\nGenerell können keine Ausnahmen bezüglich des Alters und der Altersfreigabe (FSK) gemacht werden. Aufgrund der Uhrzeit können keine Personen unter 16 Jahren auf das Gelände gelassen werden. Bei Nichtbeachtung müssen wir den Einlass verweigern.\nGültige Ausweisdokumente (Lichtbild) müssen von allen Personen mitgeführt werden.\nAutoscheiben\, hinter denen Insassen sitzen\, dürfen nur maximal eine Handbreit geöffnet werden.\nCabrios müssen geschlossen sein. Das sitzen auf der Ladefläche von Pick Ups oder ähnliches\, ist leider auch nicht gestattet.\nAutos dürfen nur im Notfall und zum Gang zur Toilette mit Tragen einer Maske verlassen werden.\nDie geltenden Mindestabstandsregeln im Öffentlichen Raum sind einzuhalten.\nIn dringenden Fällen kann das Gelände verlassen werden. Bitte fahrt auf dem Gelände ausschließlich im Schritttempo. Es gilt die STVO.\n\n												Infos zur Ticketbestellung \n\nTickets können ausschließlich im Vorverkauf online erworben werden. Es gibt keine Abendkasse.\nGebuchte Tickets können nicht storniert werden.\nACHTUNG: Bitte kaufen Sie keine Tickets über Ebay. Tickets gibt es ausschließlich im Online-Shop auf www.schuetzenverein-bispingen.de!\nDie Einlasskontrolle und Einweisung der Autos erfolgen ohne jeglichen persönlichen Kontakt.\nDen Ticket-Code bitte auf dem Mobiltelefon/Tablet speichern oder ausdrucken.\nDie Tickets bzw. den QR-Code der Buchungsbestätigung bitte am Einlass von innen gegen das Autofenster halten. Das Handydisplay bitte hell genug stellen. Bitte die Autofenster während des Aufenthalts geschlossen halten.\n\n												Einlass \nEinlass ist ab 18:00 Uhr. Aufgrund des hohen Andrangs können Wartezeiten entstehen. Wir bitten um Verständnis. Der Gaußsche Bogen bietet genügend Rückstaufläche. \n												Platzanweiser \n\nDie Platzierung der Fahrzeuge erfolgt durch unser Personal vor Ort. Dabei werden die die Fahrzeuge nach Größe sortiert. Den Anweisungen ist Folge zu leisten.\nNachdem Ihr Euer Auto nach Anweisung der Platzeinweiser geparkt habt\, wird der Motor abgestellt und bis zum Ende der Veranstaltung auch nicht mehr gestartet. Bitte das Fahrzeug während der Veranstaltung nicht starten!\nDas Tagfahrlicht muss während der Veranstaltung abgeschaltet werden. Macht Euch bitte mit Euren Standby-Einstellungen im Vorfeld vertraut. Modernere PKW haben häufig eine Abschaltautomatik verbaut.\n\n												Radio \n\nDie Radiofrequenz wird am Abend der Veranstaltung bekannt gegeben.\nFalls kein Ton zu hören ist\, macht per Warnblinklicht auf Euch aufmerksam (oder meldet Euch beim Servicepersonal.)\nSollte Euer PKW über eine Abschaltautomatik verfügen\, könnt Ihr diese in den meisten Fällen umgehen\, indem Ihr eurem Auto durch das Verstellen der Lautstärke immer mal wieder zeigt\, dass Ihr noch da seid.\n\n												Essen und Trinken im Auto \n\nEs ist erlaubt\, eigenes Essen und Getränke mitzunehmen.\nBitte entsorgt Euren Müll nicht vor Ort\, sondern nehmt diesen wieder mit und entsorgen ihn zu Hause.\nEs gibt auch die Möglichkeit vor Ort Getränke und Snacks zu kaufen\, dafür erhaltet Ihr beim Einlass einen Bestellzettel. Die Bestellung erfolgt ausschließlich vor Ort per Handy. Die Ausgabe und Bezahlung der bestellten Snacks und Getränke erfolgt kontaktlos am Auto.\nWir würden uns freuen\, wenn Ihr unsere örtlichen Schausteller und Gastronomen mit dem Kauf von Essen und Getränken vor Ort unterstützt.\n\n												Toiletten \n\nAufgrund der aktuellen Corona-Situation bitten wir darum die Toiletten nur im Notfall zu nutzen\, um große Menschenansammlungen vor den Toiletten zu vermeiden.\nBei den sanitären Anlagen müssen die Abstandsregelungen von mindestens 1\,5 Metern eingehalten werden.\nEs darf nur eine Person zur gleichen Zeit die Toilette benutzen. Die Toilettenanlagen werden regelmäßig gereinigt und desinfiziert. Es sind ausreichend Handwaschbecken vorhanden.\nDas Sicherheitspersonal überwacht stets\, dass die Zugangsbeschränkungen eingehalten werden.\n\n												Nach der Veranstaltung \n\nDas Verlassen des Platzes erfolgt reihenweise!\nLasst deswegen bitte das Fahrzeug erst nach Aufforderung durch den Sicherheitsdienst an und fahrt los\, wenn ihr dazu aufgefordert werdet.\nFalls Eure Autobatterie am Ende der Veranstaltung zu schwach zum Starten ist\, wird ein Team bereitstehen\, das in diesem Fall bei der Überbrückung mit einem Starterset unterstützt.\n\nBei weiteren Fragen oder Unklarheiten steht Euch das Sicherheitspersonal vor Ort zur Verfügung. Wir wünschen Euch viel Spaß beim Bispinger Auto-Schützenfest 2020. \n			\n						Sicherheitsbestimmungen und Hygienevorschriften downloaden – hier klicken.\n					\n			Ticketshop\n			\n						Hier Klicken und Tickets kaufen!\n					\n			Besucherinfos\n											\n															\n											\n															\n			\n						Hier Klicken und Besucherinfos downloaden\n					\n			Wir bedanken uns ganz herzlich bei unseren Sponsoren & Partnern:
URL:https://www.schuetzenverein-bispingen.de/veranstaltung/bispinger-auto-schuetzenfest-2020/
LOCATION:Gewerbegebiet Horstfeld\, Bispingen\, Gaußscher Bogen\, Bispingen\, Niedersachsen\, 29646\, Deutschland
CATEGORIES:Öffentlicher Veranstaltungskalender
ORGANIZER;CN="Sch%C3%BCtzenverein Bispingen von 1910 e.V.":MAILTO:info@schuetzenverein-bispingen.de
END:VEVENT
BEGIN:VEVENT
DTSTART;TZID=Europe/Berlin:20200411T190000
DTEND;TZID=Europe/Berlin:20200411T233000
DTSTAMP:20260420T102204
CREATED:20200106T143145Z
LAST-MODIFIED:20200318T094007Z
UID:10000179-1586631600-1586647800@www.schuetzenverein-bispingen.de
SUMMARY:Osterfeuer 2020 - FÄLLT AUS!
DESCRIPTION:Gemütliche Wärme\, Musikalische Unterhaltung vom Musikzug der Freiwilligen Feuerwehr Bispingen und Spielmannszug vom MTV Bispingen\, Leckereien vom Grill und Geselligkeit – das ist das beliebte Osterfeuer in Bispingen. \nAm Samstag vor Ostern (Karsamstag) ist es soweit. Die Kinder begeistern sich am großen Lagerfeuer auf dem Schützenplatz Bispingen\, die Erwachsenen genießen Speis und Trank in den aufgebauten Buden und das Feuer spendet wohlige Wärme. \nAlle Bispingerinnen / Bispinger und Gäste sind herzlich willkommen!
URL:https://www.schuetzenverein-bispingen.de/veranstaltung/osterfeuer-2020-in-bispingen/
LOCATION:Schützenplatz Bispingen\, Bahnhofstraße 901\, Bispingen\, Niedersachsen\, 29646\, Deutschland
CATEGORIES:Öffentlicher Veranstaltungskalender
ATTACH;FMTTYPE=image/jpeg:https://www.schuetzenverein-bispingen.de/wp-content/uploads/2018/12/Fotolia_139238351_XL.jpg
ORGANIZER;CN="Sch%C3%BCtzenverein Bispingen von 1910 e.V.":MAILTO:info@schuetzenverein-bispingen.de
END:VEVENT
BEGIN:VEVENT
DTSTART;TZID=Europe/Berlin:20200306T200000
DTEND;TZID=Europe/Berlin:20200306T223000
DTSTAMP:20260420T102204
CREATED:20200109T152731Z
LAST-MODIFIED:20200211T123329Z
UID:10000186-1583524800-1583533800@www.schuetzenverein-bispingen.de
SUMMARY:Generalversammlung
DESCRIPTION:Tagesordnung\nTOP 1 Begrüßung / Beschlussfähigkeit / Totenehrung \nTOP 2 Genehmigung des Protokolls vom 01.03.2019 \nTOP 3 Rechenschaftsbericht vom 1. Vorsitzenden \nTOP 4 Berichte aus dem Schießwesen: \n\nSchießoffizier\nDamenleiterin\nJugendschießsportleiter\n\nTOP 5 Kassenbericht \nTOP 6 Bericht der Kassenprüfer und Entlastung \nTOP 7 Neuanschaffungen Zaun / Beleuchtung KK-Stand / Lichtpunktanlage \nTOP 8 Schützenfest 2020 \nPAUSE \nTOP 9 Haushaltsplan 2020 \nTOP 10 Renovierung Schießstand \nTOP 11 Wahlen: \n\n1. Vorsitzende/r\nStellvertretende/r Schatzmeister/in\nAdjutant\nKassenprüfer/in\nDelegierte für 2020 und 2021\n\nTOP 12 Ehrenmitgliedschaften \nTOP 13 Anträge \nTOP 14 Verschiedenes \nAnträge sind bis zum 22.02.2020 beim 1. Vorsitzenden\, Heiko Bockelmann\, Vor den Höfen 14\, 29646 Bispingen\, schriftlich einzureichen. \nWir bitten um rege Beteiligung. \nDer Vorstand \nTagesordnung Generalversammlung 2020 downloaden – hier klicken
URL:https://www.schuetzenverein-bispingen.de/veranstaltung/generalversammlung/
LOCATION:Heidehotel Rieckmann\, Kirchweg 1\, Bispingen\, Niedersachsen\, 29646\, Deutschland
CATEGORIES:Interner Veranstaltungskalender
ATTACH;FMTTYPE=image/jpeg:https://www.schuetzenverein-bispingen.de/wp-content/uploads/2019/03/a74e7d2b-b31a-41ee-9fa0-a12d605f98dc.jpg
ORGANIZER;CN="Sch%C3%BCtzenverein Bispingen von 1910 e.V.":MAILTO:info@schuetzenverein-bispingen.de
END:VEVENT
BEGIN:VEVENT
DTSTART;TZID=Europe/Berlin:20200229T090000
DTEND;TZID=Europe/Berlin:20200229T150000
DTSTAMP:20260420T102204
CREATED:20200211T095354Z
LAST-MODIFIED:20200211T095416Z
UID:10000210-1582966800-1582988400@www.schuetzenverein-bispingen.de
SUMMARY:Arbeitseinsatz und Zaunbau – Schießstand und Schützenplatz Bispingen
DESCRIPTION:Wie in jedem Jahr steht das Säubern des Schießstands (Schießbahn\, Dachrinnen etc.) und des Schützenplatzes an. \n\n\n\nAus Sicherheitsgründen ist zur Zeit das KK-Schießen nicht möglich. Um diesen Umstand zu beheben müssen wir in diesem Jahr\, zusätzlich zu den normalen Arbeiten\, zwei neue Zäune zur Abgrenzung des Schützenhauses bzw. der Schießbahn aufbauen. Aus diesem Grund bitten wir um eine große Beteiligung\, damit das KK-Schießen wieder pünktlich Anfang März gestartet werden kann. \n\n\n\nBitte mitbringen:– Laubharken– Schaufeln– Twicken– Eimer– Arbeitshandschuhe \n\n\n\nNatürlich wird auch wieder für eine gute Verpflegung gesorgt. \n\n\n\nWir freuen uns auf eine zahlenmäßig großartige Beteiligung von allen Mitgliedern. \n\n\n\nDer Vorstand
URL:https://www.schuetzenverein-bispingen.de/veranstaltung/arbeitseinsatz-und-zaunbau-schiessstand-und-schuetzenplatz-bispingen-2/
LOCATION:Schützenplatz Bispingen\, Bahnhofstraße 901\, Bispingen\, Niedersachsen\, 29646\, Deutschland
CATEGORIES:Interner Veranstaltungskalender
ORGANIZER;CN="Sch%C3%BCtzenverein Bispingen von 1910 e.V.":MAILTO:info@schuetzenverein-bispingen.de
END:VEVENT
BEGIN:VEVENT
DTSTART;TZID=Europe/Berlin:20190813T190000
DTEND;TZID=Europe/Berlin:20190822T220000
DTSTAMP:20260420T102204
CREATED:20190511T203300Z
LAST-MODIFIED:20200109T150740Z
UID:10000176-1565722800-1566511200@www.schuetzenverein-bispingen.de
SUMMARY:Königspokal-Schießen
DESCRIPTION:Liebe Schützenschwestern\, liebe Schützenbrüder\,wir laden Euch herzlich zum Königs-Pokal Schießen ein.Diese Veranstaltung ist verbunden mit einem Damenpokal-\, Freundschaftspokal- und einem  großen öffentlichen Preisschießen.1. Preis 100\,00 EuroDas Schießen wird an folgenden Tagen im Schießstand in Bispingen durchgeführt: \n\n\n\nDienstag\, 13. August 2019\, von 19:00 bis 22:00 UhrMittwoch\, 14. August 2019\, von 19:00 bis 22:00 UhrDonnerstag\, 15. August 2019\, von 19:00 bis 22:00 UhrFreitag\, 16. August 2019\, von 18:00 bis 20:00 Uhr (Satzverkauf bis 19:30 Uhr)\n\n\n\nDie Siegerehrung und Preisverteilung findet am Freitag\, 16. August 2019 nach dem Schießen im Schützenhaus Bispingen statt. Der Gewinner des Königs-Pokal ist im Folgejahr der Ausrichter des Wettbewerbs. Der Pokal muss neu gestiftet werden. \n\n\n\nFür das leibliche Wohl ist gesorgt\, es gibt: \n\n\n\nCurrywurst und PommesCurrywurst mit BrotPortion Pommes Frites\n\n\n\nWir freuen uns auf Eure Teilnahme und wünschen Euch bei allen Wettbewerben „Gut Schuss“. \n\n\n\nMit Schützengruß \n\n\n\nHeiko Bockelmann (1. Vorsitzender) und Hans-Peter Dodt (Schießoffizier) \n\n\n\nAusschreibung als PDF downloaden
URL:https://www.schuetzenverein-bispingen.de/veranstaltung/koenigspokal-schiessen/
LOCATION:Schützenplatz Bispingen\, Bahnhofstraße 901\, Bispingen\, Niedersachsen\, 29646\, Deutschland
CATEGORIES:Öffentlicher Veranstaltungskalender
ATTACH;FMTTYPE=image/jpeg:https://www.schuetzenverein-bispingen.de/wp-content/uploads/2018/12/kreisschützenfest-2018-könige.jpg
ORGANIZER;CN="Sch%C3%BCtzenverein Bispingen von 1910 e.V.":MAILTO:info@schuetzenverein-bispingen.de
END:VEVENT
BEGIN:VEVENT
DTSTART;TZID=Europe/Berlin:20190720T150000
DTEND;TZID=Europe/Berlin:20190723T013000
DTSTAMP:20260420T102204
CREATED:20181130T064644Z
LAST-MODIFIED:20200109T150740Z
UID:10000173-1563634800-1563845400@www.schuetzenverein-bispingen.de
SUMMARY:Heide-Schützenfest Bispingen 2019
DESCRIPTION:Wie in jedem Jahr\, feiern wir auch 2019 unser Heide-Schützenfest in Bispingen immer rund um das Wochenende vom 3. Sonntag im Juli.  \n\n\n\n\n\n\n\n\n\n\n\n\n\n\nFestprogramm 2019\n\n\n\nSamstag\, 20.07.201912:45 Uhr: Beginn Kinderschützenfest mit dem Abholen der Kinderköniginab 14:30 Uhr: Kinderkönigsschießen und Kinderbelustigungen14:30 Uhr: Beginn Damenbeste-Schießen16:00 Uhr: Proklamation des Kinderkönigspaares und Abmarsch zum neuen Kinderschützenkönig20:00 Uhr: Antreten der Kompanie zum Fackelumzug auf der Ladestraßeab 21:00 bis 03:00 Uhr: Disco-Abend im Zelt (Eintritt für ALLE – auch Schützen – 5\,00 €) \n\n\n\n\n\n\n\n\n\n\n\nSonntag\, 21.07.2019ab 06:00 Uhr: Wecken durch den Spielmanns- und Fanfarenzug des MTV Bispingen11:45 Uhr: Antreten der Kompanie auf dem Festplatz\, Abholen der Vereinsfahne beim Rathaus\,  Abholen des Königs mit anschließendem Umzug durch den Ort15:00 bis 18:00 Uhr: Preisschießen (Preisverleihung Montag um 21:00 Uhr im Festzelt\, 1. Preis 150\,00 €; 2. Preis 100\,00 €; 3. Preis 50\,00 € sowie viele weitere Sachpreise\, Kassenschluss: 17:30 Uhr)ca. 15:00 Uhr: Platzkonzert im Festzelt mit dem Feuerwehrmusikzug Bispingen und dem Spielmanns- und Fanfarenzug des MTV Bispingen\, Kaffee und Kuchen werden angeboten17:30 Uhr: „Bispingen rockt“ – Rockkonzert im Festzelt mit den „Old School Rockers“ – Das Bandprojekt der Lebenshilfe Lüneburg-Harburg.19:30 bis 22:00 Uhr: „Die Melker“ – “Dorfrock – frisch von der Weide!” (ab 17:30 Uhr: Eintritt für ALLE – auch Schützen – 6\,00 €) \n\n\n\n\n\n\n\n\n\n\n\nMontag\, 22.07.201907:45 Uhr: Antreten der Kompanie auf dem Festplatz\, Abmarsch zum Katerfrühstück beim König\, anschließend Rückkehr zum Festplatz 10:00 bis 11:00 Uhr: Königsschießen\, parallel wird die Damenbeste proklamiert12:00 Uhr: Festessen mit Anmeldung im Zelt mit anschließender Königsproklamation\, danach Umzug durch den Ort15:00 bis 18:00 Uhr: Preisschießen (Preisverleihung um 21:00 Uhr im Festzelt\, 1. Preis 150\,00 €; 2. Preis 100\,00 €; 3. Preis 50\,00 € sowie viele weitere Sachpreise\, Kassenschluss: 17:30 Uhr)ab 20:00 Uhr: Königsball mit der Gruppe „JOY“ (Eintritt für ALLE – auch Schützen – 6\,00 €)21:00 bis 21:05 Uhr: Preisverleihung „Preisschießen“ im Festzelt \n\n\n\n\n\n\n\nFestprogramm downloaden\n\n\n\n\n\n\n\nMit dem Muttizettel abends länger bei unserer Zeltdisco feiern!\n\n\n\nDu möchtest abends länger bei unserer Zeltdisco bleiben? Das deutsche Jugendschutzgesetz legt für Minderjährige bis 16 Jahre bzw. Jugendliche bis 18 Jahre leider sehr strikte Uhrzeiten fest oder verlangt\, dass Du in Begleitung eines Erziehungsberechtigten unterwegs bist.Da Du wohl kaum mit Deinen Eltern in die Disco möchtest\, gibt es eine tolle Alternative: Den Muttizettel!Mit diesem Zettel kannst Du Dich auch von einer anderen volljährigen Person begleiten lassen\, die für das besondere Event mit Deiner Erziehung beauftragt wird.Im Folgenden finden Du und Deine Eltern alle wichtigen Informationen zum Muttizettel.   Wann brauchst Du eine Muttizettel Vorlage? Jugendliche unter 16 Jahren dürfen nur in eine Disco wenn ein Erziehungsberechtigter dabei ist. Zwischen 16 und 18 Jahren darf maximal bis 24 Uhr in einer Disco/Party/Veranstaltung gefeiert werden. Mit einer Erziehungsbeauftragung\, also dem Muttizettel\, sieht das ganze allerdings anders aus.Unter 16 Jahren: In diesem Alter darf man nur bis 22 Uhr in die Disco. In Begleitung eines Erziehungsberechtigten oder aber mit einem Muttizettel und einem Erziehungsbeauftragten darf man solange man möchte in eine Disco!Ab 16 Jahren: Zwischen 16 und 18 Jahren darf man bis 24 Uhr in die Disco. Mit einem ausgefülltem Muttizettel darf man jedoch auch noch länger in der Disco bleiben.Ab 18 Jahren: Von jetzt an braucht man keinen Muttizettel oder eine Erziehungsbeauftragung mehr. Man kann solange wie man möchte in der Disco bleiben.    Informationen für Deine Eltern Ihnen als Eltern bietet der Muttizettel eine tolle Möglichkeit\, nicht für jede abendliche Veranstaltung ein Verbot erteilen zu müssen.Der Muttizettel ist bewusst vom Gesetzgeber eingeführt worden\, um Ihnen und Ihren Kindern größere Freiheiten zu geben\, obwohl Sie bis zur Volljährigkeit die Aufsichtspflicht für Ihre Kinder besitzen.Um Ihren Nachwuchs guten Gewissens auf eine Party oder ein Konzert zu lassen\, sollten Sie den Muttizettel in Ruhe gemeinsam ausfüllen und sich ausgiebig über die Person informieren\, die Sie mit der Erziehung beauftragen.Beachten Sie vor allem:– der Erziehungsbeauftragte muss volljährig sein.– der Erziehungsbeauftragte ist zu jedem Zeitpunkt der Veranstaltung ein Ansprechpartner.– der Beauftragte ist verantwortungsvoll und seiner Aufgabe gewachsen.    Informationen für Deinen Erziehungsbeauftragten Wenn Du als Erziehungsbeauftragter auf dem Muttizettel eingetragen wirst\, übernimmst Du eine sehr verantwortungsvolle Aufgabe.Sobald Du auf dem Muttizettel stehst und dem von Dir betreuten Minderjährigen oder Jugendlichen passiert etwas\, kannst Du hierfür verantwortlich gemacht werden.Betreue deshalb im Idealfall nur einzelne Jugendliche und nimm diese Aufgabe ernst.Hierzu gehören beispielsweise\, dass Du als Vorbild für den Minderjährigen oder Jugendlichen giltst und er auf Dich hört\, genauso wie der bewusste Verzicht auf Alkohol.Hiervon musst Du auch die Eltern des Jugendlichen überzeugen\, die Deinen Namen auf den Muttizettel schreiben sollen!   \n\n\n\nMuttizettel downloaden
URL:https://www.schuetzenverein-bispingen.de/veranstaltung/heide-schuetzenfest-bispingen-2019/
LOCATION:Schützenplatz Bispingen\, Bahnhofstraße 901\, Bispingen\, Niedersachsen\, 29646\, Deutschland
CATEGORIES:Öffentlicher Veranstaltungskalender
ATTACH;FMTTYPE=image/jpeg:https://www.schuetzenverein-bispingen.de/wp-content/uploads/2018/11/37703995_2003040453100059_5426643959625547776_o.jpg
ORGANIZER;CN="Sch%C3%BCtzenverein Bispingen von 1910 e.V.":MAILTO:info@schuetzenverein-bispingen.de
END:VEVENT
BEGIN:VEVENT
DTSTART;TZID=Europe/Berlin:20190513T190000
DTEND;TZID=Europe/Berlin:20190516T220000
DTSTAMP:20260420T102204
CREATED:20190511T202537Z
LAST-MODIFIED:20200109T150739Z
UID:10000175-1557774000-1558044000@www.schuetzenverein-bispingen.de
SUMMARY:Goldteller-Pokalschießen
DESCRIPTION:Liebe Schützenschwestern\, liebe Schützenbrüder\, \n\n\n\nwir laden Euch herzlich zum \n\n\n\nGoldteller-Pokalschießen in 3. Generation \n\n\n\nein. \n\n\n\nDiese Veranstaltung ist verbunden mit einem Damenpokal-\, Freundschaftspokal- und einem großen öffentlichen Preisschießen. \n\n\n\nPreis 100\,00 EUR\n\n\n\nDas Schießen wird an folgenden Tagen im Schießstand in Bispingen durchgeführt: \n\n\n\nMontag 13. Mai 2019 von 19.00 bis 22.00 UhrDienstag 14. Mai 2019 von 19.00 bis 22.00 UhrMittwoch 15. Mai 2019 von 19.00 bis 22.00 UhrDonnerstag 16. Mai 2019 von 18.00 bis 20.00 Uhr \n\n\n\nACHTUNG: Am Donnerstag\, den 16. Mai 2019 um 19:30 Uhr ist Kassenschluss. Die Siegerehrung und Preisverteilung folgt ca. 20.30 Uhr im Schießstand in Bispingen.  \n\n\n\nDer Goldteller geht in den Besitz desjenigen Vereins über\, der ihn 6 x aus der Reihe erringt. \n\n\n\nWir freuen uns auf Eure Teilnahme und wünschen Euch bei allen Wettbewerben „Gut Schuss“ \n\n\n\nMit Schützengruß \n\n\n\nHeiko Bockelmann (1. Vorsitzender) und Hans-Peter Dodt (Schießoffizier)
URL:https://www.schuetzenverein-bispingen.de/veranstaltung/goldteller-pokalschiessen/
LOCATION:Schützenplatz Bispingen\, Bahnhofstraße 901\, Bispingen\, Niedersachsen\, 29646\, Deutschland
CATEGORIES:Öffentlicher Veranstaltungskalender
ORGANIZER;CN="Sch%C3%BCtzenverein Bispingen von 1910 e.V.":MAILTO:info@schuetzenverein-bispingen.de
END:VEVENT
BEGIN:VEVENT
DTSTART;TZID=Europe/Berlin:20190420T190000
DTEND;TZID=Europe/Berlin:20190420T233000
DTSTAMP:20260420T102204
CREATED:20181206T085720Z
LAST-MODIFIED:20200610T135308Z
UID:10000174-1555786800-1555803000@www.schuetzenverein-bispingen.de
SUMMARY:Osterfeuer 2019 in Bispingen
DESCRIPTION:Gemütliche Wärme\, Musikalische Unterhaltung vom Musikzug der Freiwilligen Feuerwehr Bispingen und Spielmannszug vom MTV Bispingen\, Leckereien vom Grill und Geselligkeit – das ist das beliebte Osterfeuer in Bispingen. \nAm Samstag vor Ostern (Karsamstag) ist es soweit. Die Kinder begeistern sich am großen Lagerfeuer auf dem Schützenplatz Bispingen\, die Erwachsenen genießen Speis und Trank in den aufgebauten Buden und das Feuer spendet wohlige Wärme. \nAlle Bispingerinnen / Bispinger und Gäste sind herzlich willkommen!
URL:https://www.schuetzenverein-bispingen.de/veranstaltung/osterfeuer-2019-in-bispingen/
LOCATION:Schützenplatz Bispingen\, Bahnhofstraße 901\, Bispingen\, Niedersachsen\, 29646\, Deutschland
CATEGORIES:Öffentlicher Veranstaltungskalender
ATTACH;FMTTYPE=image/jpeg:https://www.schuetzenverein-bispingen.de/wp-content/uploads/2018/12/Fotolia_139238351_XL.jpg
ORGANIZER;CN="Sch%C3%BCtzenverein Bispingen von 1910 e.V.":MAILTO:info@schuetzenverein-bispingen.de
END:VEVENT
END:VCALENDAR